BEGIN:VCALENDAR
VERSION:2.0
X-WR-TIMEZONE:America/Guadeloupe
CALSCALE:GREGORIAN
PRODID:-//IPEOS/Calendar//NONSGML v1.0//FR
X-WR-CALNAME;VALUE=TEXT:Ville du Gosier - Guadeloupe - Programme mensuel des animations de la médiathèque Raoul Georges Nicolo
X-WR-CALDESC: Les animations de la médiathèque Raoul Georges Nicolo se poursuivent ce mois-ci... On retrouve les animations tant attendues des enfants et bien sûr\, des activités pour les adultes. Une pléiade d’activités pour tous !  Animations pour les enfants   Les mercredis Timoun  Les Mercredis Timoun à la médiathèque sont des après-midis dédiés aux jeunes de 0 à 9 ans\, offrant une variété d’activités ludiques et éducatives pour éveiller leur curiosité et stimuler leur créativité.  Ces rendez-vous (…) 
X-WR-RELCALID:que-faire-au-gosier/culture-patrimoine-et-pratiques-artistiques/actualites/article/9923
BEGIN:VEVENT
SUMMARY:Révise tes exams !
UID:evenement2710 @ https://www.villedugosier.fr
DTSTAMP:20260424T154030Z
DTSTART:20260425T140000Z
DTEND:20260425T153000Z
CREATED:20260424T154030Z
LAST-MODIFIED:20260424T194102Z 
LOCATION:Médiathèque Raoul Georges Nicolo\, Bd Amédée Clara\, Gosier
DESCRIPTION:Révise tes exams : un atelier pour gérer le stress et réussir sereinement À l’approche des examens (Brevet\, Bac\, études supérieures\, concours)\, la Médiathèque Raoul Georges Nicolo propose un atelier dédié à la gestion du stress\, à destination des collégiens\, lycéens et étudiants. Objectif : aider les élèves et étudiants à aborder leurs épreuves avec confiance et sérénité. L’atelier sera animé par Maryse ISIMAT-MIRIN\, formatrice en gestion du stress au Rectorat de Guadeloupe. Au programme : • Conseils d’hygiène de vie et d’organisation • Techniques de mémorisation et de concentration • Préparation mentale aux épreuves écrites et orales • Exercices pratiques de relaxation Inscription obligatoire par mail à mediatheque chez villedugosier.fr - 0590 84 58 50 - Places limitées Samedi 25 avril de 10h à 11h30 Infos pratiques > Salles de travail mises à disposition des usagers ▪ Mardi\, mercredi et vendredi : 9h00 – 18h00 ▪ Jeudi : 14h00 – 18h00 ▪ Samedi : 9h00 – 17h00 et 14h00 – 17h00 (pour les groupes) 
CATEGORIES:Programme mensuel des animations de la médiathèque Raoul Georges Nicolo
URL:https://www.villedugosier.fr/que-faire-au-gosier/culture-patrimoine-et-pratiques-artistiques/actualites/article/9923?id_evenement=2710

STATUS:CONFIRMED
END:VEVENT
END:VCALENDAR

